BEGIN:VCALENDAR
VERSION:2.0
PRODID:-//Around the 715 - ECPv6.15.20//NONSGML v1.0//EN
CALSCALE:GREGORIAN
METHOD:PUBLISH
X-ORIGINAL-URL:https://www.aroundthe715.com
X-WR-CALDESC:Events for Around the 715
REFRESH-INTERVAL;VALUE=DURATION:PT1H
X-Robots-Tag:noindex
X-PUBLISHED-TTL:PT1H
BEGIN:VTIMEZONE
TZID:America/Chicago
BEGIN:DAYLIGHT
TZOFFSETFROM:-0600
TZOFFSETTO:-0500
TZNAME:CDT
DTSTART:20230312T080000
END:DAYLIGHT
BEGIN:STANDARD
TZOFFSETFROM:-0500
TZOFFSETTO:-0600
TZNAME:CST
DTSTART:20231105T070000
END:STANDARD
BEGIN:DAYLIGHT
TZOFFSETFROM:-0600
TZOFFSETTO:-0500
TZNAME:CDT
DTSTART:20240310T080000
END:DAYLIGHT
BEGIN:STANDARD
TZOFFSETFROM:-0500
TZOFFSETTO:-0600
TZNAME:CST
DTSTART:20241103T070000
END:STANDARD
BEGIN:DAYLIGHT
TZOFFSETFROM:-0600
TZOFFSETTO:-0500
TZNAME:CDT
DTSTART:20250309T080000
END:DAYLIGHT
BEGIN:STANDARD
TZOFFSETFROM:-0500
TZOFFSETTO:-0600
TZNAME:CST
DTSTART:20251102T070000
END:STANDARD
END:VTIMEZONE
BEGIN:VEVENT
DTSTART;TZID=America/Chicago:20240915T160000
DTEND;TZID=America/Chicago:20240915T180000
DTSTAMP:20260420T042723
CREATED:20240905T143505Z
LAST-MODIFIED:20240905T143505Z
UID:67877-1726416000-1726423200@www.aroundthe715.com
SUMMARY:Harvest Festival
DESCRIPTION:Free family event: free food\, live music\, games\, family fun\, prizes\, giveaways and more!
URL:https://www.aroundthe715.com/event/harvest-festival/
LOCATION:Calvary Baptist Church\, 3036 Epiphany Ln\, Eau Claire\, WI\, 54703\, United States
CATEGORIES:Community,Family,Food,Live Music
ATTACH;FMTTYPE=image/png:https://www.aroundthe715.com/wp-content/uploads/2024/08/harvest-festival.png
END:VEVENT
END:VCALENDAR