BEGIN:VCALENDAR
VERSION:2.0
PRODID:-//Around the 715 - ECPv6.15.20//NONSGML v1.0//EN
CALSCALE:GREGORIAN
METHOD:PUBLISH
X-WR-CALNAME:Around the 715
X-ORIGINAL-URL:https://www.aroundthe715.com
X-WR-CALDESC:Events for Around the 715
REFRESH-INTERVAL;VALUE=DURATION:PT1H
X-Robots-Tag:noindex
X-PUBLISHED-TTL:PT1H
BEGIN:VTIMEZONE
TZID:America/Chicago
BEGIN:DAYLIGHT
TZOFFSETFROM:-0600
TZOFFSETTO:-0500
TZNAME:CDT
DTSTART:20230312T080000
END:DAYLIGHT
BEGIN:STANDARD
TZOFFSETFROM:-0500
TZOFFSETTO:-0600
TZNAME:CST
DTSTART:20231105T070000
END:STANDARD
BEGIN:DAYLIGHT
TZOFFSETFROM:-0600
TZOFFSETTO:-0500
TZNAME:CDT
DTSTART:20240310T080000
END:DAYLIGHT
BEGIN:STANDARD
TZOFFSETFROM:-0500
TZOFFSETTO:-0600
TZNAME:CST
DTSTART:20241103T070000
END:STANDARD
BEGIN:DAYLIGHT
TZOFFSETFROM:-0600
TZOFFSETTO:-0500
TZNAME:CDT
DTSTART:20250309T080000
END:DAYLIGHT
BEGIN:STANDARD
TZOFFSETFROM:-0500
TZOFFSETTO:-0600
TZNAME:CST
DTSTART:20251102T070000
END:STANDARD
END:VTIMEZONE
BEGIN:VEVENT
DTSTART;TZID=America/Chicago:20240405T190000
DTEND;TZID=America/Chicago:20240405T190000
DTSTAMP:20260424T141327
CREATED:20240401T192342Z
LAST-MODIFIED:20240404T191705Z
UID:64070-1712343600-1712343600@www.aroundthe715.com
SUMMARY:Skating Through the Enchanted Forest Presented by the Chippewa Figure Skating Club
DESCRIPTION:Where the Chippewa skaters will be showcasing their skills and hard work from the year.
URL:https://www.aroundthe715.com/event/skating-through-the-enchanted-forest-presented-by-the-chippewa-figure-skating-club/2024-04-05/
LOCATION:Chippewa Area Ice Arena\, Chippewa Falls\, 839 1st Ave\, Chippewa Falls\, WI\, 54729\, United States
CATEGORIES:Entertainment
ATTACH;FMTTYPE=image/png:https://www.aroundthe715.com/wp-content/uploads/2021/11/Skate.png
END:VEVENT
END:VCALENDAR