BEGIN:VCALENDAR
VERSION:2.0
PRODID:-//Around the 715 - ECPv6.15.20//NONSGML v1.0//EN
CALSCALE:GREGORIAN
METHOD:PUBLISH
X-ORIGINAL-URL:https://www.aroundthe715.com
X-WR-CALDESC:Events for Around the 715
REFRESH-INTERVAL;VALUE=DURATION:PT1H
X-Robots-Tag:noindex
X-PUBLISHED-TTL:PT1H
BEGIN:VTIMEZONE
TZID:America/Chicago
BEGIN:DAYLIGHT
TZOFFSETFROM:-0600
TZOFFSETTO:-0500
TZNAME:CDT
DTSTART:20240310T080000
END:DAYLIGHT
BEGIN:STANDARD
TZOFFSETFROM:-0500
TZOFFSETTO:-0600
TZNAME:CST
DTSTART:20241103T070000
END:STANDARD
BEGIN:DAYLIGHT
TZOFFSETFROM:-0600
TZOFFSETTO:-0500
TZNAME:CDT
DTSTART:20250309T080000
END:DAYLIGHT
BEGIN:STANDARD
TZOFFSETFROM:-0500
TZOFFSETTO:-0600
TZNAME:CST
DTSTART:20251102T070000
END:STANDARD
BEGIN:DAYLIGHT
TZOFFSETFROM:-0600
TZOFFSETTO:-0500
TZNAME:CDT
DTSTART:20260308T080000
END:DAYLIGHT
BEGIN:STANDARD
TZOFFSETFROM:-0500
TZOFFSETTO:-0600
TZNAME:CST
DTSTART:20261101T070000
END:STANDARD
END:VTIMEZONE
BEGIN:VEVENT
DTSTART;TZID=America/Chicago:20251129T100000
DTEND;TZID=America/Chicago:20251129T150000
DTSTAMP:20260419T070526
CREATED:20251013T195855Z
LAST-MODIFIED:20251013T195855Z
UID:75983-1764410400-1764428400@www.aroundthe715.com
SUMMARY:2025 Handmade Holiday - Wisconsin Makers Market
DESCRIPTION:We will be filling the Lismore Hotel event rooms with the most creative\, inspired and talented artists\, makers and dreamers from the Midwest. We will have great food\, a fun atmosphere\, community spirit\, live music\, and a wide variety of unique one of a kind handmade goods and art. Whether you’re looking for seasonal decorations\, gifts\, or just want to support small businesses\, this event has something for everyone. Get all your holiday shopping done in one spot! Come enjoy the festive atmosphere and kick off the Holiday season with us!
URL:https://www.aroundthe715.com/event/2025-handmade-holiday-wisconsin-makers-market/
LOCATION:The Lismore Hotel\, 333 Gibson Street\, Eau Claire\, WI\, 54701\, United States
CATEGORIES:Arts & Crafts
ATTACH;FMTTYPE=image/jpeg:https://www.aroundthe715.com/wp-content/uploads/2025/10/Holi.jpg
ORGANIZER;CN="Wisconsin Makers Market":MAILTO:wisconsinmakersmarket@gmail.com
END:VEVENT
BEGIN:VEVENT
DTSTART;VALUE=DATE:20250912
DTEND;VALUE=DATE:20250914
DTSTAMP:20260419T070526
CREATED:20250603T192539Z
LAST-MODIFIED:20250603T192539Z
UID:72773-1757635200-1757807999@www.aroundthe715.com
SUMMARY:Booked Eau Claire Convention
DESCRIPTION:Booked Eau Claire is bringing the wonderful world of storytelling to life with an exciting new literary celebration on September 12-13\, 2025! At the Lismore Hotel in downtown Eau Claire\, WI\, for this two-day event dedicated to amplifying voices\, igniting creativity\, and fostering a vibrant community of book lovers through panels\, workshops\, + more. \nFocused on empowering women and LGBTQIA+ communities\, Booked Eau Claire proudly features over 60 authors from across the country\, offering a diverse range of YA\, NA\, and Adult books. Don’t miss a special session with New York Times bestselling author Abby Jimenez! Connect with fellow readers\, meet new authors\, explore book-related vendors\, and engage with influencers who share your love for reading. Make it a weekend getaway—fall in Eau Claire is truly magical! \nVIP Readers\, Authors\, Influencers\, and Vendors join us for a Wicked-themed PJ Party-themed event the night of Friday\, September 12th.
URL:https://www.aroundthe715.com/event/booked-eau-claire-convention/
LOCATION:The Lismore Hotel\, 333 Gibson Street\, Eau Claire\, WI\, 54701\, United States
CATEGORIES:Arts & Crafts,Books,Shopping
ATTACH;FMTTYPE=image/png:https://www.aroundthe715.com/wp-content/uploads/2025/05/Black-and-White-Minimalist-Elegant-Monoline-Floral-Book-Store-Logo-6.png
ORGANIZER;CN="Booked Eau Claire":MAILTO:bookedeauclaire@gmail.com
END:VEVENT
END:VCALENDAR